BEGIN:VCALENDAR
VERSION:2.0
PRODID:SchoolNow
CALSCALE:GREGORIAN
BEGIN:VEVENT
UID:5487235a-9e21-11ef-b39a-0a58a9feac02
DTSTAMP:20241108T223226Z
SUMMARY:No School - Veterans Day
URL;VALUE=URI:https://www.tusd.org/schools/launch/calendar/6984876/no-schoo
 l-veterans-day
DTSTART;VALUE=DATE:20241111
DTEND;VALUE=DATE:20241112
END:VEVENT
END:VCALENDAR
