BEGIN:VCALENDAR
VERSION:2.0
PRODID:SchoolNow
CALSCALE:GREGORIAN
BEGIN:VEVENT
UID:18079978-0946-11f1-873f-0a58a9feac02
DTSTAMP:20260419T130507Z
SUMMARY:School Administrator week
URL;VALUE=URI:https://www.tusd.org/schools/jefferson/calendar/8855606/schoo
 l-administrator-week
DTSTART;VALUE=DATE:20271014
DTEND;VALUE=DATE:20271019
END:VEVENT
END:VCALENDAR
