BEGIN:VCALENDAR
VERSION:2.0
PRODID:SchoolNow
CALSCALE:GREGORIAN
BEGIN:VEVENT
UID:c1f6ef8c-38fe-11f1-b603-0a58a9feac02
DTSTAMP:20260425T162523Z
SUMMARY:LATE START
URL;VALUE=URI:https://www.tusd.org/schools/hull/calendar/8995966/late-start
DTSTART;VALUE=DATE:20260422
DTEND;VALUE=DATE:20260423
END:VEVENT
END:VCALENDAR
