BEGIN:VCALENDAR
VERSION:2.0
PRODID:SchoolNow
CALSCALE:GREGORIAN
BEGIN:VEVENT
UID:cb0cb1a4-3865-11f1-afdd-0a58a9feac02
DTSTAMP:20260425T162523Z
SUMMARY:NO LATE START - REGULAR SCHEDULE
URL;VALUE=URI:https://www.tusd.org/schools/hull/calendar/8994292/no-late-st
 art-regular-schedule
DTSTART:20260519T151000Z
DTEND:20260519T155500Z
END:VEVENT
END:VCALENDAR
