BEGIN:VCALENDAR
VERSION:2.0
PRODID:SchoolNow
CALSCALE:GREGORIAN
BEGIN:VEVENT
UID:cb0cb0c8-3865-11f1-83ac-0a58a9feac02
DTSTAMP:20260425T162523Z
SUMMARY:NO LATE START - REGULAR SCHEDULE
URL;VALUE=URI:https://www.tusd.org/schools/hull/calendar/8994291/no-late-st
 art-regular-schedule
DTSTART:20260512T151000Z
DTEND:20260512T155500Z
END:VEVENT
END:VCALENDAR
