BEGIN:VCALENDAR
VERSION:2.0
PRODID:SchoolNow
CALSCALE:GREGORIAN
BEGIN:VEVENT
UID:cb0cacfe-3865-11f1-9c22-0a58a9feac02
DTSTAMP:20260425T162523Z
SUMMARY:NO PLC - REGULAR SCHEDULE
URL;VALUE=URI:https://www.tusd.org/schools/hull/calendar/8994287/no-plc-reg
 ular-schedule
DTSTART:20260414T151000Z
DTEND:20260414T155500Z
END:VEVENT
END:VCALENDAR
