BEGIN:VCALENDAR
VERSION:2.0
PRODID:SchoolNow
CALSCALE:GREGORIAN
BEGIN:VEVENT
UID:cb0caa6a-3865-11f1-a03c-0a58a9feac02
DTSTAMP:20260425T162523Z
SUMMARY:NO PLC - REGULAR SCHEDULE
URL;VALUE=URI:https://www.tusd.org/schools/hull/calendar/8994284/no-plc-reg
 ular-schedule
DTSTART:20260324T151000Z
DTEND:20260324T155500Z
END:VEVENT
END:VCALENDAR
