BEGIN:VCALENDAR
VERSION:2.0
PRODID:SchoolNow
CALSCALE:GREGORIAN
BEGIN:VEVENT
UID:cb0ca448-3865-11f1-b9e5-0a58a9feac02
DTSTAMP:20260425T162523Z
SUMMARY:NO PLC - REGULAR SCHEDULE
URL;VALUE=URI:https://www.tusd.org/schools/hull/calendar/8994277/no-plc-reg
 ular-schedule
DTSTART:20260203T161000Z
DTEND:20260203T165500Z
END:VEVENT
END:VCALENDAR
