BEGIN:VCALENDAR
VERSION:2.0
PRODID:SchoolNow
CALSCALE:GREGORIAN
BEGIN:VEVENT
UID:7aed8616-232b-11f1-8cbd-0a58a9feac02
DTSTAMP:20260421T172009Z
SUMMARY:Fern Family Fun Night at Burnin Daylight
LOCATION:Burnin Daylight Brewing Company\, 24516 Narbonne Ave STE 100\, Lom
 ita\, CA 90717\, USA
URL;VALUE=URI:https://www.tusd.org/schools/fern/calendar/8928895/fern-famil
 y-fun-night-at-burnin-daylight
DTSTART:20260521T230000Z
DTEND:20260522T030000Z
ATTACH;FILENAME=Fern PTA_FFN_Burnin' Daylight_2026-05-21.pdf;FMTTYPE=applic
 ation/pdf:https://drive.google.com/open?id=1mBjwgC6sZfCeQ4wqxlDQsOIhAVfz0p
 hS
END:VEVENT
END:VCALENDAR
