BEGIN:VCALENDAR
VERSION:2.0
PRODID:SchoolNow
CALSCALE:GREGORIAN
BEGIN:VEVENT
UID:a95663b8-1f95-11f1-95f9-0a58a9feac02
DTSTAMP:20260421T172009Z
SUMMARY:Fern Family Fun Event at Board & Brew
LOCATION:Board & Brew - Torrance\, 21211 Hawthorne Blvd suite 140\, Torranc
 e\, CA 90503\, USA
URL;VALUE=URI:https://www.tusd.org/schools/fern/calendar/8917399/fern-famil
 y-fun-event-at-board-brew
DTSTART:20260416T230000Z
DTEND:20260417T030000Z
ATTACH;FILENAME=Fern PTA_FFN_Board & Brew_2026-04-16.pdf;FMTTYPE=applicatio
 n/pdf:https://drive.google.com/open?id=12EfuyCAdSklhSlAGGUYI3x2b1561vL81
END:VEVENT
END:VCALENDAR
