BEGIN:VCALENDAR
VERSION:2.0
PRODID:SchoolNow
CALSCALE:GREGORIAN
BEGIN:VEVENT
UID:d526a69e-1c32-11f1-a2d2-0a58a9feac02
DTSTAMP:20260421T172009Z
SUMMARY:5th Grade Crumbl Cookie Fundraiser Last Day
URL;VALUE=URI:https://www.tusd.org/schools/fern/calendar/8905903/5th-grade-
 crumbl-cookie-fundraiser-last-day
DTSTART;VALUE=DATE:20260314
DTEND;VALUE=DATE:20260315
ATTACH;FILENAME=Fern PTA_5th Grade_Crumbl Fundraiser_2026-03-07.pdf;FMTTYPE
 =application/pdf:https://drive.google.com/file/d/1daNepElIhTRBPB3RPfVbIv1Z
 1rkUASp8/view?usp=drivesdk
END:VEVENT
END:VCALENDAR
