BEGIN:VCALENDAR
VERSION:2.0
PRODID:SchoolNow
CALSCALE:GREGORIAN
BEGIN:VEVENT
UID:a12cf6c4-0934-11f1-98fb-0a58a9feac02
DTSTAMP:20260220T195007Z
SUMMARY:PTA APEX FUN RUN
URL;VALUE=URI:https://www.tusd.org/schools/fern/calendar/8855604/pta-apex-f
 un-run
DTSTART:20260226T170000Z
DTEND:20260226T200000Z
ATTACH;FILENAME=Fun Run Parent Letter 2026 (1).pdf;FMTTYPE=application/pdf:
 https://drive.google.com/open?id=14wj9ulx4tBwShaG4KcMF3w44QFyvlmon
END:VEVENT
END:VCALENDAR
