BEGIN:VCALENDAR
VERSION:2.0
PRODID:SchoolNow
CALSCALE:GREGORIAN
BEGIN:VEVENT
UID:693d68e0-079d-11f1-9b1f-0affeff30837
DTSTAMP:20260220T195007Z
SUMMARY:Torrance GATE Innovation Festival@ El Camino College
URL;VALUE=URI:https://www.tusd.org/schools/fern/calendar/8853611/torrance-g
 ate-innovation-festival-el-camino-college
DTSTART;VALUE=DATE:20260418
DTEND;VALUE=DATE:20260419
END:VEVENT
END:VCALENDAR
