BEGIN:VCALENDAR
VERSION:2.0
PRODID:SchoolNow
CALSCALE:GREGORIAN
BEGIN:VEVENT
UID:693d671e-079d-11f1-9ec6-0affeff30837
DTSTAMP:20260220T195007Z
SUMMARY:GATE Webinar Session (All GATE Families)
URL;VALUE=URI:https://www.tusd.org/schools/fern/calendar/8853610/gate-webin
 ar-session-all-gate-families
DTSTART:20260227T013000Z
DTEND:20260227T023000Z
END:VEVENT
END:VCALENDAR
