BEGIN:VCALENDAR
VERSION:2.0
PRODID:SchoolNow
CALSCALE:GREGORIAN
BEGIN:VEVENT
UID:693d6016-079d-11f1-abc4-0affeff30837
DTSTAMP:20260220T195007Z
SUMMARY:TUSD GATE Family Webinar (Newly Identified Students)
URL;VALUE=URI:https://www.tusd.org/schools/fern/calendar/8853609/tusd-gate-
 family-webinar-newly-identified-students
DTSTART:20260220T013000Z
DTEND:20260220T023000Z
END:VEVENT
END:VCALENDAR
