BEGIN:VCALENDAR
VERSION:2.0
PRODID:SchoolNow
CALSCALE:GREGORIAN
BEGIN:VEVENT
UID:693c6134-079d-11f1-8337-0affeff30837
DTSTAMP:20260220T195007Z
SUMMARY:TUSD GATE Keynote@ NHS PAC
URL;VALUE=URI:https://www.tusd.org/schools/fern/calendar/8853608/tusd-gate-
 keynote-nhs-pac
DTSTART:20260313T003000Z
DTEND:20260313T021500Z
END:VEVENT
END:VCALENDAR
