BEGIN:VCALENDAR
VERSION:2.0
PRODID:SchoolNow
CALSCALE:GREGORIAN
BEGIN:VEVENT
UID:761b03ce-0252-11f1-8d6b-0affcd900bbf
DTSTAMP:20260421T172009Z
SUMMARY:5th Grade Fundraiser @ Brusters
LOCATION:Bruster's Real Ice Cream\, 2390 Crenshaw Blvd Unit F Unit F\, Torr
 ance\, CA 90501\, USA
URL;VALUE=URI:https://www.tusd.org/schools/fern/calendar/8849858/5th-grade-
 fundraiser-brusters
DTSTART:20260210T190000Z
DTEND:20260211T060000Z
ATTACH;FILENAME=Fern PTA_5th Grade_Brusters Fundraiser Flyer_2026-02-10.pdf
 ;FMTTYPE=application/pdf:https://drive.google.com/open?id=1fz3v0E4lM3zf6LJ
 InKVdfw3cvwwvKGtW
END:VEVENT
END:VCALENDAR
