BEGIN:VCALENDAR
VERSION:2.0
PRODID:SchoolNow
CALSCALE:GREGORIAN
BEGIN:VEVENT
UID:a76719c8-fe0f-11f0-9663-0a58a9feac02
DTSTAMP:20260220T195007Z
SUMMARY:Fern Open House
URL;VALUE=URI:https://www.tusd.org/schools/fern/calendar/8847110/fern-open-
 house
DTSTART:20260529T003000Z
DTEND:20260529T013000Z
ATTACH;FILENAME=Open House 2026 v2.png;FMTTYPE=image/png:https://drive.goog
 le.com/open?id=1bFATl1xOseOBrRKyemMHqoRu1KYl_36D
END:VEVENT
END:VCALENDAR
