BEGIN:VCALENDAR
VERSION:2.0
PRODID:SchoolNow
CALSCALE:GREGORIAN
BEGIN:VEVENT
UID:a76718c4-fe0f-11f0-b419-0a58a9feac02
DTSTAMP:20260220T195007Z
SUMMARY:Early Dismissal for Parent Teacher Conferences
URL;VALUE=URI:https://www.tusd.org/schools/fern/calendar/8847109/early-dism
 issal-for-parent-teacher-conferences
DTSTART;VALUE=DATE:20260120
DTEND;VALUE=DATE:20260121
ATTACH;FILENAME=Conference 2026.png;FMTTYPE=image/png:https://drive.google.
 com/open?id=1S0oNdEhnwLanVL9OoaVltZ4mc5boHj_n
END:VEVENT
END:VCALENDAR
