BEGIN:VCALENDAR
VERSION:2.0
PRODID:SchoolNow
CALSCALE:GREGORIAN
BEGIN:VEVENT
UID:a76716e4-fe0f-11f0-b93e-0a58a9feac02
DTSTAMP:20260220T195007Z
SUMMARY:Madrona Middle School 6th Grade Family Preview
URL;VALUE=URI:https://www.tusd.org/schools/fern/calendar/8847107/madrona-mi
 ddle-school-6th-grade-family-preview
DTSTART:20260113T013000Z
DTEND:20260113T023000Z
END:VEVENT
END:VCALENDAR
