BEGIN:VCALENDAR
VERSION:2.0
PRODID:SchoolNow
CALSCALE:GREGORIAN
BEGIN:VEVENT
UID:a76715f4-fe0f-11f0-a838-0a58a9feac02
DTSTAMP:20260220T195007Z
SUMMARY:TUSD Track Meet
URL;VALUE=URI:https://www.tusd.org/schools/fern/calendar/8847106/tusd-track
 -meet
DTSTART:20260529T213000Z
DTEND:20260530T000000Z
END:VEVENT
END:VCALENDAR
