BEGIN:VCALENDAR
VERSION:2.0
PRODID:SchoolNow
CALSCALE:GREGORIAN
BEGIN:VEVENT
UID:a76714c8-fe0f-11f0-acc4-0a58a9feac02
DTSTAMP:20260220T195007Z
SUMMARY:Early Dismissal for Open House
URL;VALUE=URI:https://www.tusd.org/schools/fern/calendar/8847105/early-dism
 issal-for-open-house
DTSTART;VALUE=DATE:20260528
DTEND;VALUE=DATE:20260529
ATTACH;FILENAME=Open House 2026.png;FMTTYPE=image/png:https://drive.google.
 com/open?id=18NeIaV-N-z5dF0TpSGAUF1cN4nDMGrrS
END:VEVENT
END:VCALENDAR
