BEGIN:VCALENDAR
VERSION:2.0
PRODID:SchoolNow
CALSCALE:GREGORIAN
BEGIN:VEVENT
UID:a767139c-fe0f-11f0-92e2-0a58a9feac02
DTSTAMP:20260220T195007Z
SUMMARY:TUSD Spelling Bee @ Hull MS
URL;VALUE=URI:https://www.tusd.org/schools/fern/calendar/8847104/tusd-spell
 ing-bee-hull-ms
DTSTART:20260123T010000Z
DTEND:20260123T020000Z
END:VEVENT
END:VCALENDAR
