BEGIN:VCALENDAR
VERSION:2.0
PRODID:SchoolNow
CALSCALE:GREGORIAN
BEGIN:VEVENT
UID:a767122a-fe0f-11f0-bb60-0a58a9feac02
DTSTAMP:20260220T195007Z
SUMMARY:National School Counseling Week
URL;VALUE=URI:https://www.tusd.org/schools/fern/calendar/8847103/national-s
 chool-counseling-week
DTSTART;VALUE=DATE:20260202
DTEND;VALUE=DATE:20260203
END:VEVENT
END:VCALENDAR
