BEGIN:VCALENDAR
VERSION:2.0
PRODID:SchoolNow
CALSCALE:GREGORIAN
BEGIN:VEVENT
UID:a7670bcc-fe0f-11f0-a8ea-0a58a9feac02
DTSTAMP:20260220T195007Z
SUMMARY:Academic Pentathlon @ South HS
URL;VALUE=URI:https://www.tusd.org/schools/fern/calendar/8847102/academic-p
 entathlon-south-hs
DTSTART:20260424T000000Z
DTEND:20260424T020000Z
END:VEVENT
END:VCALENDAR
