BEGIN:VCALENDAR
VERSION:2.0
PRODID:SchoolNow
CALSCALE:GREGORIAN
BEGIN:VEVENT
UID:a767091a-fe0f-11f0-8ef6-0a58a9feac02
DTSTAMP:20260220T195007Z
SUMMARY:Math Night
URL;VALUE=URI:https://www.tusd.org/schools/fern/calendar/8847101/math-night
DTSTART:20260116T013000Z
DTEND:20260116T023000Z
ATTACH;FILENAME=Save the Date Family Math Night.png;FMTTYPE=image/png:https
 ://drive.google.com/open?id=1OofLCZMDdEBRHhftjDybxdqU_c1_XNOl
END:VEVENT
END:VCALENDAR
