BEGIN:VCALENDAR
VERSION:2.0
PRODID:SchoolNow
CALSCALE:GREGORIAN
BEGIN:VEVENT
UID:a7670820-fe0f-11f0-bb02-0a58a9feac02
DTSTAMP:20260220T195007Z
SUMMARY:Biliteracy Application and Reading Log due
URL;VALUE=URI:https://www.tusd.org/schools/fern/calendar/8847100/biliteracy
 -application-and-reading-log-due
DTSTART:20260227T170000Z
DTEND:20260227T180000Z
END:VEVENT
END:VCALENDAR
