BEGIN:VCALENDAR
VERSION:2.0
PRODID:SchoolNow
CALSCALE:GREGORIAN
BEGIN:VEVENT
UID:a767071c-fe0f-11f0-8358-0a58a9feac02
DTSTAMP:20260220T195007Z
SUMMARY:Fern School Tour
URL;VALUE=URI:https://www.tusd.org/schools/fern/calendar/8847099/fern-schoo
 l-tour
DTSTART:20260116T173000Z
DTEND:20260116T181500Z
END:VEVENT
END:VCALENDAR
