BEGIN:VCALENDAR
VERSION:2.0
PRODID:SchoolNow
CALSCALE:GREGORIAN
BEGIN:VEVENT
UID:a7670636-fe0f-11f0-886a-0a58a9feac02
DTSTAMP:20260220T195007Z
SUMMARY:Fern STEAM Fair Projects Due
URL;VALUE=URI:https://www.tusd.org/schools/fern/calendar/8847098/fern-steam
 -fair-projects-due
DTSTART:20260220T170000Z
DTEND:20260220T180000Z
END:VEVENT
END:VCALENDAR
