BEGIN:VCALENDAR
VERSION:2.0
PRODID:SchoolNow
CALSCALE:GREGORIAN
BEGIN:VEVENT
UID:a767051e-fe0f-11f0-8991-0a58a9feac02
DTSTAMP:20260220T195007Z
SUMMARY:Prospective Parent Tour
URL;VALUE=URI:https://www.tusd.org/schools/fern/calendar/8847097/prospectiv
 e-parent-tour
DTSTART:20260227T173000Z
DTEND:20260227T183000Z
END:VEVENT
END:VCALENDAR
