BEGIN:VCALENDAR
VERSION:2.0
PRODID:SchoolNow
CALSCALE:GREGORIAN
BEGIN:VEVENT
UID:a767033e-fe0f-11f0-841e-0a58a9feac02
DTSTAMP:20260220T195007Z
SUMMARY:100th Day of School!
URL;VALUE=URI:https://www.tusd.org/schools/fern/calendar/8847096/100th-day-
 of-school
DTSTART;VALUE=DATE:20260205
DTEND;VALUE=DATE:20260206
END:VEVENT
END:VCALENDAR
