BEGIN:VCALENDAR
VERSION:2.0
PRODID:SchoolNow
CALSCALE:GREGORIAN
BEGIN:VEVENT
UID:a767024e-fe0f-11f0-85c8-0a58a9feac02
DTSTAMP:20260220T195007Z
SUMMARY:Torrance Unified Board Meeting
URL;VALUE=URI:https://www.tusd.org/schools/fern/calendar/8847095/torrance-u
 nified-board-meeting
DTSTART:20260519T020000Z
DTEND:20260519T030000Z
END:VEVENT
END:VCALENDAR
