BEGIN:VCALENDAR
VERSION:2.0
PRODID:SchoolNow
CALSCALE:GREGORIAN
BEGIN:VEVENT
UID:a767015e-fe0f-11f0-9631-0a58a9feac02
DTSTAMP:20260220T195007Z
SUMMARY:Fern School Tour
URL;VALUE=URI:https://www.tusd.org/schools/fern/calendar/8847094/fern-schoo
 l-tour
DTSTART:20260123T173000Z
DTEND:20260123T181500Z
END:VEVENT
END:VCALENDAR
