BEGIN:VCALENDAR
VERSION:2.0
PRODID:SchoolNow
CALSCALE:GREGORIAN
BEGIN:VEVENT
UID:a767003c-fe0f-11f0-b42c-0a58a9feac02
DTSTAMP:20260220T195007Z
SUMMARY:Fern STEAM Fair
URL;VALUE=URI:https://www.tusd.org/schools/fern/calendar/8847093/fern-steam
 -fair
DTSTART:20260227T010000Z
DTEND:20260227T020000Z
END:VEVENT
END:VCALENDAR
