BEGIN:VCALENDAR
VERSION:2.0
PRODID:SchoolNow
CALSCALE:GREGORIAN
BEGIN:VEVENT
UID:a766fd80-fe0f-11f0-be3c-0a58a9feac02
DTSTAMP:20260220T195007Z
SUMMARY:Torrance Unified Board Meeting
URL;VALUE=URI:https://www.tusd.org/schools/fern/calendar/8847091/torrance-u
 nified-board-meeting
DTSTART:20260602T020000Z
DTEND:20260602T030000Z
END:VEVENT
END:VCALENDAR
