BEGIN:VCALENDAR
VERSION:2.0
PRODID:SchoolNow
CALSCALE:GREGORIAN
BEGIN:VEVENT
UID:a766f56a-fe0f-11f0-b227-0a58a9feac02
DTSTAMP:20260220T195007Z
SUMMARY:Torrance Unified Board Meeting
URL;VALUE=URI:https://www.tusd.org/schools/fern/calendar/8847090/torrance-u
 nified-board-meeting
DTSTART:20260303T030000Z
DTEND:20260303T040000Z
END:VEVENT
END:VCALENDAR
