BEGIN:VCALENDAR
VERSION:2.0
PRODID:SchoolNow
CALSCALE:GREGORIAN
BEGIN:VEVENT
UID:a766f27c-fe0f-11f0-8e73-0a58a9feac02
DTSTAMP:20260220T195007Z
SUMMARY:Kindness Challenge Week
URL;VALUE=URI:https://www.tusd.org/schools/fern/calendar/8847088/kindness-c
 hallenge-week
DTSTART;VALUE=DATE:20260202
DTEND;VALUE=DATE:20260207
END:VEVENT
END:VCALENDAR
