BEGIN:VCALENDAR
VERSION:2.0
PRODID:SchoolNow
CALSCALE:GREGORIAN
BEGIN:VEVENT
UID:a490b21e-fdf0-11f0-9653-0a58a9feac02
DTSTAMP:20260421T172009Z
SUMMARY:Grownup Night Out @ Comedy & Magic Club
LOCATION:The Comedy & Magic Club\, 1018 Hermosa Ave\, Hermosa Beach\, CA 90
 254\, USA
URL;VALUE=URI:https://www.tusd.org/schools/fern/calendar/8846926/grownup-ni
 ght-out-comedy-magic-club
DTSTART:20260213T023000Z
DTEND:20260213T060000Z
ATTACH;FILENAME=Fern PTA_FFN_Comedy & Magic Club_2026-02-12.pdf;FMTTYPE=app
 lication/pdf:https://drive.google.com/open?id=15FQjyqK4XgxK9dGwUmr2Mq50oFr
 mMAVP
END:VEVENT
END:VCALENDAR
