BEGIN:VCALENDAR
VERSION:2.0
PRODID:SchoolNow
CALSCALE:GREGORIAN
BEGIN:VEVENT
UID:a490b0e8-fdf0-11f0-84e1-0a58a9feac02
DTSTAMP:20260421T172009Z
SUMMARY:Fern Family Fun Night at Islands
LOCATION:Islands Restaurant Torrance\, 2647 Pacific Coast Hwy\, Torrance\, 
 CA 90505\, USA
URL;VALUE=URI:https://www.tusd.org/schools/fern/calendar/8846925/fern-famil
 y-fun-night-at-islands
DTSTART:20260310T230000Z
DTEND:20260311T060000Z
ATTACH;FILENAME=Fern PTA_FFN_Islands_2026-03-10.pdf;FMTTYPE=application/pdf
 :https://drive.google.com/open?id=1jehOrtXATfv0KKqP-1duq8-qSUu87iF2
END:VEVENT
END:VCALENDAR
