BEGIN:VCALENDAR
VERSION:2.0
PRODID:SchoolNow
CALSCALE:GREGORIAN
BEGIN:VEVENT
UID:a490ae18-fdf0-11f0-a0d7-0a58a9feac02
DTSTAMP:20260421T172009Z
SUMMARY:Reflections Art Show During Math Night
URL;VALUE=URI:https://www.tusd.org/schools/fern/calendar/8846923/reflection
 s-art-show-during-math-night
DTSTART:20260116T013000Z
DTEND:20260116T023000Z
END:VEVENT
END:VCALENDAR
