BEGIN:VCALENDAR
VERSION:2.0
PRODID:SchoolNow
CALSCALE:GREGORIAN
BEGIN:VEVENT
UID:a490aa76-fdf0-11f0-b5dd-0a58a9feac02
DTSTAMP:20260421T172009Z
SUMMARY:Fern Family Fun Night at El Torito
LOCATION:El Torito\, 23225 Hawthorne Blvd\, Torrance\, CA 90505\, USA
URL;VALUE=URI:https://www.tusd.org/schools/fern/calendar/8846922/fern-famil
 y-fun-night-at-el-torito
DTSTART:20260122T190000Z
DTEND:20260123T060000Z
ATTACH;FILENAME=Fern PTA_FFN_El Torito_2026-01-22.pdf;FMTTYPE=application/p
 df:https://drive.google.com/open?id=16V__tPDNG-O4e8RCYNOgVBBOahJM5UPJ
END:VEVENT
END:VCALENDAR
