BEGIN:VCALENDAR
VERSION:2.0
PRODID:SchoolNow
CALSCALE:GREGORIAN
BEGIN:VEVENT
UID:35dc2824-b5bd-11f0-af5e-0e3ecc248199
DTSTAMP:20260220T195007Z
SUMMARY:Torrance Unified Board Meeting
URL;VALUE=URI:https://www.tusd.org/schools/fern/calendar/8761938/torrance-u
 nified-board-meeting
DTSTART:20251104T030000Z
DTEND:20251104T040000Z
END:VEVENT
END:VCALENDAR
