BEGIN:VCALENDAR
VERSION:2.0
PRODID:SchoolNow
CALSCALE:GREGORIAN
BEGIN:VEVENT
UID:41a55cde-ab7c-11f0-87be-0a58a9feac02
DTSTAMP:20260220T195007Z
SUMMARY:GATE Testing Makeup
URL;VALUE=URI:https://www.tusd.org/schools/fern/calendar/8730063/gate-testi
 ng-makeup
DTSTART;VALUE=DATE:20251204
DTEND;VALUE=DATE:20251205
END:VEVENT
END:VCALENDAR
