BEGIN:VCALENDAR
VERSION:2.0
PRODID:SchoolNow
CALSCALE:GREGORIAN
BEGIN:VEVENT
UID:41a55b80-ab7c-11f0-8117-0a58a9feac02
DTSTAMP:20260220T195007Z
SUMMARY:4th and 5th Opt-In GATE Testing
URL;VALUE=URI:https://www.tusd.org/schools/fern/calendar/8730062/4th-and-5t
 h-opt-in-gate-testing
DTSTART;VALUE=DATE:20251112
DTEND;VALUE=DATE:20251113
END:VEVENT
END:VCALENDAR
