BEGIN:VCALENDAR
VERSION:2.0
PRODID:SchoolNow
CALSCALE:GREGORIAN
BEGIN:VEVENT
UID:41a55770-ab7c-11f0-b1cb-0a58a9feac02
DTSTAMP:20260220T195007Z
SUMMARY:3rd Grade Gate Testing
URL;VALUE=URI:https://www.tusd.org/schools/fern/calendar/8730059/3rd-grade-
 gate-testing
DTSTART;VALUE=DATE:20251105
DTEND;VALUE=DATE:20251106
END:VEVENT
END:VCALENDAR
