BEGIN:VCALENDAR
VERSION:2.0
PRODID:SchoolNow
CALSCALE:GREGORIAN
BEGIN:VEVENT
UID:1b8cf9a6-99c2-11f0-ac7b-0e424ce85ea9
DTSTAMP:20260421T172009Z
SUMMARY:Stock the Staff Lounge
URL;VALUE=URI:https://www.tusd.org/schools/fern/calendar/8662038/stock-the-
 staff-lounge
DTSTART:20260304T160000Z
DTEND:20260304T170000Z
END:VEVENT
END:VCALENDAR
