BEGIN:VCALENDAR
VERSION:2.0
PRODID:SchoolNow
CALSCALE:GREGORIAN
BEGIN:VEVENT
UID:1b8cf8ac-99c2-11f0-9770-0e424ce85ea9
DTSTAMP:20260421T172009Z
SUMMARY:Stock the Staff Lounge
URL;VALUE=URI:https://www.tusd.org/schools/fern/calendar/8662037/stock-the-
 staff-lounge
DTSTART:20260204T160000Z
DTEND:20260204T170000Z
END:VEVENT
END:VCALENDAR
