BEGIN:VCALENDAR
VERSION:2.0
PRODID:SchoolNow
CALSCALE:GREGORIAN
BEGIN:VEVENT
UID:1b8cf7a8-99c2-11f0-809f-0e424ce85ea9
DTSTAMP:20260421T172009Z
SUMMARY:Stock the Staff Lounge
URL;VALUE=URI:https://www.tusd.org/schools/fern/calendar/8662036/stock-the-
 staff-lounge
DTSTART:20260107T160000Z
DTEND:20260107T170000Z
END:VEVENT
END:VCALENDAR
