BEGIN:VCALENDAR
VERSION:2.0
PRODID:SchoolNow
CALSCALE:GREGORIAN
BEGIN:VEVENT
UID:67bcc0bc-7fdd-11f0-9aa9-0edf84b5b90f
DTSTAMP:20260220T195007Z
SUMMARY:Fern Math Festival
URL;VALUE=URI:https://www.tusd.org/schools/fern/calendar/8535031/fern-math-
 festival
DTSTART;VALUE=DATE:20260115
DTEND;VALUE=DATE:20260116
END:VEVENT
END:VCALENDAR
