BEGIN:VCALENDAR
VERSION:2.0
PRODID:SchoolNow
CALSCALE:GREGORIAN
BEGIN:VEVENT
UID:877fc77a-7d79-11f0-aecc-0a58a9feac02
DTSTAMP:20260421T172009Z
SUMMARY:Ice Cream Social & PTA Association Meeting
URL;VALUE=URI:https://www.tusd.org/schools/fern/calendar/8523970/ice-cream-
 social-pta-association-meeting
DTSTART:20260529T001500Z
DTEND:20260529T020000Z
END:VEVENT
END:VCALENDAR
